BEGIN:VCALENDAR
VERSION:2.0
PRODID:-//Rock The Ocean - ECPv6.15.20//NONSGML v1.0//EN
CALSCALE:GREGORIAN
METHOD:PUBLISH
X-WR-CALNAME:Rock The Ocean
X-ORIGINAL-URL:https://www.rocktheocean.com
X-WR-CALDESC:Events for Rock The Ocean
REFRESH-INTERVAL;VALUE=DURATION:PT1H
X-Robots-Tag:noindex
X-PUBLISHED-TTL:PT1H
BEGIN:VTIMEZONE
TZID:America/New_York
BEGIN:DAYLIGHT
TZOFFSETFROM:-0500
TZOFFSETTO:-0400
TZNAME:EDT
DTSTART:20250309T070000
END:DAYLIGHT
BEGIN:STANDARD
TZOFFSETFROM:-0400
TZOFFSETTO:-0500
TZNAME:EST
DTSTART:20251102T060000
END:STANDARD
BEGIN:DAYLIGHT
TZOFFSETFROM:-0500
TZOFFSETTO:-0400
TZNAME:EDT
DTSTART:20260308T070000
END:DAYLIGHT
BEGIN:STANDARD
TZOFFSETFROM:-0400
TZOFFSETTO:-0500
TZNAME:EST
DTSTART:20261101T060000
END:STANDARD
BEGIN:DAYLIGHT
TZOFFSETFROM:-0500
TZOFFSETTO:-0400
TZNAME:EDT
DTSTART:20270314T070000
END:DAYLIGHT
BEGIN:STANDARD
TZOFFSETFROM:-0400
TZOFFSETTO:-0500
TZNAME:EST
DTSTART:20271107T060000
END:STANDARD
END:VTIMEZONE
BEGIN:VEVENT
DTSTART;TZID=America/New_York:20260430T193000
DTEND;TZID=America/New_York:20260503T180000
DTSTAMP:20260423T041912
CREATED:20260217T173751Z
LAST-MODIFIED:20260217T173751Z
UID:2066-1777577400-1777831200@www.rocktheocean.com
SUMMARY:I.CARE'S Annual Trash Derby
DESCRIPTION:Rock The Ocean is proud to be a Bronze Level Sponsor of I.CARE’s Trash Derby in 2026! \nI.CARE’s Trash Derby sponsored by the National Marine Sanctuary Foundation in support of Goal: Clean Seas\, will include two days of debris collection\, sunrise to sunset\, Friday\, May 1st\, and Saturday\, May 2nd\, from Key Largo to Key West\, with a team leader meeting before debris collection on Thursday\, April 30th. All activities are permitted by the Florida Keys National Marine Sanctuary (FKNMS) and the Florida Fish and Wildlife (FWC). \nLeanr more & register here: https://www.icaretrashderby.com/about \n 
URL:https://www.rocktheocean.com/event/i-cares-annual-trash-derby/
LOCATION:FL
CATEGORIES:Rock The Ocean Sponsored Event
END:VEVENT
BEGIN:VEVENT
DTSTART;TZID=America/New_York:20260522T180000
DTEND;TZID=America/New_York:20260522T230000
DTSTAMP:20260423T041912
CREATED:20260422T144907Z
LAST-MODIFIED:20260422T144907Z
UID:2199-1779472800-1779490800@www.rocktheocean.com
SUMMARY:The Billfish Foundation - Pelagic Nights
DESCRIPTION:Join the Billfish Foundation on May 22nd for their fundraising event at Papa’s Raw Bar in Pompano Beach – Pelagic Nights.
URL:https://www.rocktheocean.com/event/the-billfish-foundation-pelagic-nights/
LOCATION:Papa’s Raw Bar\, 4610 N Federal Hwy.\, Lighthouse Point\, FL\, 33064
CATEGORIES:Conservation Partner Event
END:VEVENT
BEGIN:VEVENT
DTSTART;TZID=America/New_York:20261030T183000
DTEND;TZID=America/New_York:20261030T213000
DTSTAMP:20260423T041912
CREATED:20260422T145506Z
LAST-MODIFIED:20260422T145823Z
UID:2202-1793385000-1793395800@www.rocktheocean.com
SUMMARY:The Billfish Foundation's 40th Annual Gala
DESCRIPTION:Join The Billfish Foundation’s 40th Annual Gala on October 30th at the Harbor Beach Marriott\, Fort Lauderdale.
URL:https://www.rocktheocean.com/event/the-billfish-foundations-40th-annual-gala/
LOCATION:Marriott Harbor Beach Resort\, 3030 Holiday Dr.\, Fort Lauderdale\, FL\, 33316
CATEGORIES:Conservation Partner Event
END:VEVENT
END:VCALENDAR